BEGIN:VCALENDAR
VERSION:2.0
PRODID:-//Red Clay Democrats - ECPv6.15.16.1//NONSGML v1.0//EN
CALSCALE:GREGORIAN
METHOD:PUBLISH
X-ORIGINAL-URL:https://redclaydems.org
X-WR-CALDESC:Events for Red Clay Democrats
REFRESH-INTERVAL;VALUE=DURATION:PT1H
X-Robots-Tag:noindex
X-PUBLISHED-TTL:PT1H
BEGIN:VTIMEZONE
TZID:UTC
BEGIN:STANDARD
TZOFFSETFROM:+0000
TZOFFSETTO:+0000
TZNAME:UTC
DTSTART:20220101T000000
END:STANDARD
END:VTIMEZONE
BEGIN:VEVENT
DTSTART;TZID=UTC:20240107T000000
DTEND;TZID=UTC:20240107T000000
DTSTAMP:20260424T114031
CREATED:20231217T211642Z
LAST-MODIFIED:20231217T211642Z
UID:797-1704585600-1704585600@redclaydems.org
SUMMARY:Christmas Day (Orthodox & Coptic)
DESCRIPTION:
URL:https://redclaydems.org/calendar/christmas-day-orthodox-coptic/
END:VEVENT
BEGIN:VEVENT
DTSTART;TZID=UTC:20231214T183000
DTEND;TZID=UTC:20231214T210000
DTSTAMP:20260424T114031
CREATED:20231120T213943Z
LAST-MODIFIED:20231120T220407Z
UID:774-1702578600-1702587600@redclaydems.org
SUMMARY:RCD Holiday Alumni Party
DESCRIPTION:Calling all past and present members of Red Clay Democrats! \nWhat began as an idea among friends more than 20 years ago has become an organization that remains a force in Georgia Democratic politics. Our members are elected officials\, political staffers\, non-profit professionals and other young professionals who want make a difference in the lives of all Georgians. What better way to celebrate the Holidays than bringing this special group together!! \nPlease join us at Ohio River South’s offices on December 14th\, starting at 6:30 PM. \nTickets are $50 and include beverages and Hors d’oeuvres. \nOur Hospitality Sponsorship level is $250\, our Host Sponsorship level is $500\, and our Presenting Sponsorship level is $1000. All of our Sponsors will be celebrated at the event as well as listed in our social media posts. We hope to have your support in organizing this event!
URL:https://redclaydems.org/calendar/winter-holiday-event/
LOCATION:Ohio River South\, 235 Mitchell St SW\, Atlanta\, GA\, 30303\, United States
CATEGORIES:Alumni
ATTACH;FMTTYPE=image/png:https://redclaydems.org/wp-content/uploads/2023/11/9fd4415ff1a94e44943e2a71aa3d262d.png
ORGANIZER;CN="Red Clay Democrats":MAILTO:info@redclaydems.org
END:VEVENT
BEGIN:VEVENT
DTSTART;TZID=UTC:20231207T000000
DTEND;TZID=UTC:20231215T000000
DTSTAMP:20260424T114031
CREATED:20231217T211642Z
LAST-MODIFIED:20231217T211642Z
UID:795-1701907200-1702598400@redclaydems.org
SUMMARY:Hanukkah*
DESCRIPTION:
URL:https://redclaydems.org/calendar/hanukkah/
END:VEVENT
BEGIN:VEVENT
DTSTART;TZID=UTC:20231004T180000
DTEND;TZID=UTC:20231004T210000
DTSTAMP:20260424T114031
CREATED:20230910T195339Z
LAST-MODIFIED:20230925T155642Z
UID:590-1696442400-1696453200@redclaydems.org
SUMMARY:Red Clay Fall BBQ
DESCRIPTION:We are are all used to having BBQ‘s in the summer but frankly this summer was so dang hot\, we thought we’d wait for fall! \nPlease join Red Clay Dems on October 4\, from 6pm to 9pm\, for a BBQ on The Beltline with some of our favorite Dems in a discussion on the Georgia Trump indictment! There will be plenty of Sweet Auburn BBQ\, beer\, wine\, and lots to discuss. \nThat’s why it’s so important to get started now! Red Clay Democrats are committed to fundraising to support progressive candidates in Georgia \nTickets are available for $50 and we’d appreciate your support beyond that amount!
URL:https://redclaydems.org/calendar/red-clay-fall-bbq/
LOCATION:Beltline Office\, 691 John Wesley Dobbs Ave\, Suite Z\, Atlanta\, GA\, 30312\, United States
CATEGORIES:Fundraiser
ATTACH;FMTTYPE=image/png:https://redclaydems.org/wp-content/uploads/2023/09/69d32774d45a4586b5f329346db21a01.png
ORGANIZER;CN="Red Clay Democrats":MAILTO:info@redclaydems.org
END:VEVENT
BEGIN:VEVENT
DTSTART;TZID=UTC:20230719T190000
DTEND;TZID=UTC:20230719T203000
DTSTAMP:20260424T114031
CREATED:20240409T161254Z
LAST-MODIFIED:20240409T161254Z
UID:855-1689793200-1689798600@redclaydems.org
SUMMARY:Trivia Night Event
DESCRIPTION:
URL:https://redclaydems.org/calendar/trivia-night-event/
LOCATION:Brewhouse\, Brewhouse
ORGANIZER;CN="Red Clay Democrats":MAILTO:info@redclaydems.org
END:VEVENT
END:VCALENDAR